BEGIN:VCALENDAR
VERSION:2.0
PRODID:-//Visit Cranbrook - ECPv6.15.15//NONSGML v1.0//EN
CALSCALE:GREGORIAN
METHOD:PUBLISH
X-ORIGINAL-URL:https://www.cranbrooktourism.com
X-WR-CALDESC:Events for Visit Cranbrook
REFRESH-INTERVAL;VALUE=DURATION:PT1H
X-Robots-Tag:noindex
X-PUBLISHED-TTL:PT1H
BEGIN:VTIMEZONE
TZID:America/Edmonton
BEGIN:DAYLIGHT
TZOFFSETFROM:-0700
TZOFFSETTO:-0600
TZNAME:MDT
DTSTART:20250309T090000
END:DAYLIGHT
BEGIN:STANDARD
TZOFFSETFROM:-0600
TZOFFSETTO:-0700
TZNAME:MST
DTSTART:20251102T080000
END:STANDARD
BEGIN:DAYLIGHT
TZOFFSETFROM:-0700
TZOFFSETTO:-0600
TZNAME:MDT
DTSTART:20260308T090000
END:DAYLIGHT
BEGIN:STANDARD
TZOFFSETFROM:-0600
TZOFFSETTO:-0700
TZNAME:MST
DTSTART:20261101T080000
END:STANDARD
BEGIN:DAYLIGHT
TZOFFSETFROM:-0700
TZOFFSETTO:-0600
TZNAME:MDT
DTSTART:20270314T090000
END:DAYLIGHT
BEGIN:STANDARD
TZOFFSETFROM:-0600
TZOFFSETTO:-0700
TZNAME:MST
DTSTART:20271107T080000
END:STANDARD
END:VTIMEZONE
BEGIN:VEVENT
DTSTART;TZID=America/Edmonton:20260422T023000
DTEND;TZID=America/Edmonton:20260422T163000
DTSTAMP:20260420T161519
CREATED:20260407T172440Z
LAST-MODIFIED:20260407T172521Z
UID:10001491-1776825000-1776875400@www.cranbrooktourism.com
SUMMARY:Turtle Day 2026
DESCRIPTION:Celebrate Earth Day at Turtle Day 2026 at Elizabeth Lake in Cranbrook. \n\n\n\nHosted by the Fish & Wildlife Compensation Program and the Rocky Mountain Naturalists\, this free\, family-friendly event offers a unique opportunity to learn about the at-risk western painted turtle. See hatchlings shortly after emerging from their nests\, speak with naturalists\, and discover how these turtles survive and thrive in their environment. \n\n\n\nVisitors can also learn about the diverse wildlife that calls Elizabeth Lake home. The event begins with a welcome from Nasuʔkin Joe Pierre Jr. at 2:30 pm. \n\n\n\nThis is a great opportunity to connect with nature and explore one of the most biodiverse regions in Canada \n\n\n\nIf you have questions\, contact at fwcp@bchydro.com.
URL:https://www.cranbrooktourism.com/event/turtle-day-2026/
LOCATION:Elizabeth Lake\, 620 Van Horne St S\, Cranbrook\, B.C\, V1C 6X9\, Canada
ATTACH;FMTTYPE=image/jpeg:https://www.cranbrooktourism.com/wp-content/uploads/2026/04/8093d4b1-f392-4b8f-9328-3e1aae7c3b71.jpg
END:VEVENT
END:VCALENDAR